BEGIN:VCALENDAR
VERSION:2.0
PRODID:icalendar-ruby
CALSCALE:GREGORIAN
METHOD:PUBLISH
BEGIN:VEVENT
DTSTAMP:20260420T080916Z
UID:38-152296@southpointnazarene.org
DTSTART:20260916T223000Z
DTEND:20260916T233000Z
CLASS:PUBLIC
CREATED:20260420T031325
DESCRIPTION:Join us every Wednesday from 6:30-7:30pm for a fun adventure th
 rough the people and places of the Bible for children ages pre-K through 5
 th grade!
LAST-MODIFIED:20260420T031325
LOCATION:South Point Church of the Nazarene
SUMMARY:EPIC Wednesdays
URL;VALUE=URI:https://www.southpointnazarene.org/events/epic-wednesdays/202
 6-09-16
ATTACH;FILENAME=bible_crosses-28.jpg;FMTTYPE=image/jpeg:https://dq5pwpg1q8r
 u0.cloudfront.net/2025/08/17/13/23/19/7c1614ef-9d28-41b1-a1cf-3c5625b947fc
 /bible_crosses-28.jpg
END:VEVENT
END:VCALENDAR
